BEGIN:VCALENDAR
VERSION:2.0
PRODID:-//Soulardarity - ECPv6.15.20//NONSGML v1.0//EN
CALSCALE:GREGORIAN
METHOD:PUBLISH
X-ORIGINAL-URL:https://soulardarity.org
X-WR-CALDESC:Events for Soulardarity
REFRESH-INTERVAL;VALUE=DURATION:PT1H
X-Robots-Tag:noindex
X-PUBLISHED-TTL:PT1H
BEGIN:VTIMEZONE
TZID:UTC
BEGIN:STANDARD
TZOFFSETFROM:+0000
TZOFFSETTO:+0000
TZNAME:UTC
DTSTART:20230101T000000
END:STANDARD
END:VTIMEZONE
BEGIN:VEVENT
DTSTART;TZID=UTC:20240422T173000
DTEND;TZID=UTC:20240422T190000
DTSTAMP:20260419T145221
CREATED:20240403T215138Z
LAST-MODIFIED:20240409T000640Z
UID:1748-1713807000-1713812400@soulardarity.org
SUMMARY:Highland Park Campaign Team Meeting
DESCRIPTION:The Highland Park Campaign Team is getting back together! This spring\, we have MUCH to talk about! Gather your neighbors and fellow Highland Parkers to get updates on our Whole Homes\, Whole Communities project\, talk about upcoming workshops and events in Highland Park through Soulardarity\, and talk about what matters MOST to you in Highland Park this year – along with finding out how you can continue to make a difference through volunteering! Hosted on Zoom\, make sure you RSVP for this meeting together! RSVP BELOW!
URL:https://soulardarity.org/event/hpct-april2024/
CATEGORIES:Soulardarity
ATTACH;FMTTYPE=image/png:https://soulardarity.org/wp-content/uploads/2024/04/HPCT-MTG-422-1.png
ORGANIZER;CN="Max Boyd":MAILTO:max@soulardarity.com
END:VEVENT
END:VCALENDAR