BEGIN:VCALENDAR
VERSION:2.0
PRODID:-//Soulardarity - ECPv6.15.20//NONSGML v1.0//EN
CALSCALE:GREGORIAN
METHOD:PUBLISH
X-ORIGINAL-URL:https://soulardarity.org
X-WR-CALDESC:Events for Soulardarity
REFRESH-INTERVAL;VALUE=DURATION:PT1H
X-Robots-Tag:noindex
X-PUBLISHED-TTL:PT1H
BEGIN:VTIMEZONE
TZID:America/Detroit
BEGIN:DAYLIGHT
TZOFFSETFROM:-0500
TZOFFSETTO:-0400
TZNAME:EDT
DTSTART:20230312T070000
END:DAYLIGHT
BEGIN:STANDARD
TZOFFSETFROM:-0400
TZOFFSETTO:-0500
TZNAME:EST
DTSTART:20231105T060000
END:STANDARD
BEGIN:DAYLIGHT
TZOFFSETFROM:-0500
TZOFFSETTO:-0400
TZNAME:EDT
DTSTART:20240310T070000
END:DAYLIGHT
BEGIN:STANDARD
TZOFFSETFROM:-0400
TZOFFSETTO:-0500
TZNAME:EST
DTSTART:20241103T060000
END:STANDARD
BEGIN:DAYLIGHT
TZOFFSETFROM:-0500
TZOFFSETTO:-0400
TZNAME:EDT
DTSTART:20250309T070000
END:DAYLIGHT
BEGIN:STANDARD
TZOFFSETFROM:-0400
TZOFFSETTO:-0500
TZNAME:EST
DTSTART:20251102T060000
END:STANDARD
END:VTIMEZONE
BEGIN:VEVENT
DTSTART;TZID=America/Detroit:20240720T120000
DTEND;TZID=America/Detroit:20240720T170000
DTSTAMP:20260419T110250
CREATED:20240702T194947Z
LAST-MODIFIED:20240702T201801Z
UID:2435-1721476800-1721494800@soulardarity.org
SUMMARY:Community Resource Fair
DESCRIPTION:Soulardarity is joining one of our favorite partners – Avalon Village – in bringing resources to our community! Held at Avalon Village (34-36 Avalon\, Highland Park) from 12-5pm\, come and see all different kinds of vendors that can help with health\, wellness\, mental health\, legal\, utility\, housing\, food security\, education\, & more!\n\n\n\n\n\n\n\nSoulardarity will be there to help resource our residents in the middle of the intense Detroit heat waves! Come visit our booth to receive resources to keep you cool in the heat\, and information of how to handle DTE when shutoffs or other issues may occur! \n\n\n\n\n\n\n\n\nMore Information HERE
URL:https://soulardarity.org/event/resourcefair/
LOCATION:Jakobi Ra Park\, 34 Avalon St\, Highland Park\, Michigan\, 48203\, United States
CATEGORIES:Soulardarity
ATTACH;FMTTYPE=image/jpeg:https://soulardarity.org/wp-content/uploads/2024/07/IMG_5352.jpg
END:VEVENT
END:VCALENDAR