BEGIN:VCALENDAR
VERSION:2.0
PRODID:-//Soulardarity - ECPv6.15.20//NONSGML v1.0//EN
CALSCALE:GREGORIAN
METHOD:PUBLISH
X-WR-CALNAME:Soulardarity
X-ORIGINAL-URL:https://soulardarity.org
X-WR-CALDESC:Events for Soulardarity
REFRESH-INTERVAL;VALUE=DURATION:PT1H
X-Robots-Tag:noindex
X-PUBLISHED-TTL:PT1H
BEGIN:VTIMEZONE
TZID:America/Detroit
BEGIN:DAYLIGHT
TZOFFSETFROM:-0500
TZOFFSETTO:-0400
TZNAME:EDT
DTSTART:20230312T070000
END:DAYLIGHT
BEGIN:STANDARD
TZOFFSETFROM:-0400
TZOFFSETTO:-0500
TZNAME:EST
DTSTART:20231105T060000
END:STANDARD
BEGIN:DAYLIGHT
TZOFFSETFROM:-0500
TZOFFSETTO:-0400
TZNAME:EDT
DTSTART:20240310T070000
END:DAYLIGHT
BEGIN:STANDARD
TZOFFSETFROM:-0400
TZOFFSETTO:-0500
TZNAME:EST
DTSTART:20241103T060000
END:STANDARD
BEGIN:DAYLIGHT
TZOFFSETFROM:-0500
TZOFFSETTO:-0400
TZNAME:EDT
DTSTART:20250309T070000
END:DAYLIGHT
BEGIN:STANDARD
TZOFFSETFROM:-0400
TZOFFSETTO:-0500
TZNAME:EST
DTSTART:20251102T060000
END:STANDARD
END:VTIMEZONE
BEGIN:VEVENT
DTSTART;TZID=America/Detroit:20240731T110000
DTEND;TZID=America/Detroit:20240731T210000
DTSTAMP:20260419T094612
CREATED:20240702T192243Z
LAST-MODIFIED:20240708T180036Z
UID:2432-1722423600-1722459600@soulardarity.org
SUMMARY:Buddy's Giveback Fundraiser
DESCRIPTION:Pizza + Energy Democracy…what could be better? On Wednesday July 31\, order anything from Buddy’s Pizza on 17125 Conant St Detroit\, MI and Soulardarity receives 20% of sales! All you have to do is mention “Soulardarity” when you dine-in\, order to-go in person\, over the phone\, or use GIVEBACK as the code if you order off of Buddy’s Website!\n\n\n\n(does not include 3rd party delivery apps such as DoorDash or GrubHub)\n\n\n\n\n\n\n\n\nRSVP YOUR SPOT TODAY!\n\n\n\n\n\n\n\n\nSHARE the flyer with family\, friends\, neighbors\, & more! See you at Buddy’s!
URL:https://soulardarity.org/event/buddys/
LOCATION:Buddy’s Pizza\, 17125 Conant\, Detroit\, Michigan\, 48212\, United States
CATEGORIES:Soulardarity
ATTACH;FMTTYPE=image/png:https://soulardarity.org/wp-content/uploads/2024/07/Buddys-Giveback-1.png
END:VEVENT
END:VCALENDAR