BEGIN:VCALENDAR
VERSION:2.0
PRODID:-//Soulardarity - ECPv6.15.20//NONSGML v1.0//EN
CALSCALE:GREGORIAN
METHOD:PUBLISH
X-ORIGINAL-URL:https://soulardarity.org
X-WR-CALDESC:Events for Soulardarity
REFRESH-INTERVAL;VALUE=DURATION:PT1H
X-Robots-Tag:noindex
X-PUBLISHED-TTL:PT1H
BEGIN:VTIMEZONE
TZID:America/Detroit
BEGIN:DAYLIGHT
TZOFFSETFROM:-0500
TZOFFSETTO:-0400
TZNAME:EDT
DTSTART:20230312T070000
END:DAYLIGHT
BEGIN:STANDARD
TZOFFSETFROM:-0400
TZOFFSETTO:-0500
TZNAME:EST
DTSTART:20231105T060000
END:STANDARD
BEGIN:DAYLIGHT
TZOFFSETFROM:-0500
TZOFFSETTO:-0400
TZNAME:EDT
DTSTART:20240310T070000
END:DAYLIGHT
BEGIN:STANDARD
TZOFFSETFROM:-0400
TZOFFSETTO:-0500
TZNAME:EST
DTSTART:20241103T060000
END:STANDARD
BEGIN:DAYLIGHT
TZOFFSETFROM:-0500
TZOFFSETTO:-0400
TZNAME:EDT
DTSTART:20250309T070000
END:DAYLIGHT
BEGIN:STANDARD
TZOFFSETFROM:-0400
TZOFFSETTO:-0500
TZNAME:EST
DTSTART:20251102T060000
END:STANDARD
END:VTIMEZONE
BEGIN:VEVENT
DTSTART;TZID=America/Detroit:20240921T120000
DTEND;TZID=America/Detroit:20240922T180000
DTSTAMP:20260419T083303
CREATED:20240819T184610Z
LAST-MODIFIED:20240819T193746Z
UID:2549-1726920000-1727028000@soulardarity.org
SUMMARY:DBCFSN Harvest Festival
DESCRIPTION:Our awesome friends at D-Town Farms and DBCFSN are putting on a harvest festival for the whole family! “Join us on Saturday\, September 21\, and Sunday\, September 22\, 2024\, from 12:00 PM to 6:00 PM each day\, during the fall equinox\, for a jam-packed weekend of fun and learning activities for all ages. This is more than a festival; it’s a movement of workshops\, hands-on activities\, music\, and vibes that reflect the soul of sustainable food systems and community power.” The Soul Team will be there with our table and hands-on activities about solar and how to save on your DTE bill! Come check it out! \n\n\n\n\n\n\n\nFor more information on the full list of activities and more\, please visit https://www.dbcfsn.org/harvest2024
URL:https://soulardarity.org/event/harvest/
CATEGORIES:Soulardarity
ATTACH;FMTTYPE=image/webp:https://soulardarity.org/wp-content/uploads/2024/08/Harvest-3.png.webp
END:VEVENT
END:VCALENDAR