BEGIN:VCALENDAR
VERSION:2.0
PRODID:-//Soulardarity - ECPv6.15.20//NONSGML v1.0//EN
CALSCALE:GREGORIAN
METHOD:PUBLISH
X-ORIGINAL-URL:https://soulardarity.org
X-WR-CALDESC:Events for Soulardarity
REFRESH-INTERVAL;VALUE=DURATION:PT1H
X-Robots-Tag:noindex
X-PUBLISHED-TTL:PT1H
BEGIN:VTIMEZONE
TZID:UTC
BEGIN:STANDARD
TZOFFSETFROM:+0000
TZOFFSETTO:+0000
TZNAME:UTC
DTSTART:20220101T000000
END:STANDARD
END:VTIMEZONE
BEGIN:VEVENT
DTSTART;TZID=UTC:20230930T080000
DTEND;TZID=UTC:20230930T170000
DTSTAMP:20260419T232502
CREATED:20230922T152544Z
LAST-MODIFIED:20230922T162929Z
UID:1093-1696060800-1696093200@soulardarity.org
SUMMARY:Q4 Meeting
DESCRIPTION:Join Us
URL:https://soulardarity.org/event/q4-meeting/
LOCATION:21 Highland St\, Highland Park\, MI 48203\, 21 Highland St\, Highland Park\, Michigan\, 48203\, United States
ORGANIZER;CN="Soulardarity":MAILTO:webdev@soulardarity
END:VEVENT
END:VCALENDAR