BEGIN:VCALENDAR
VERSION:2.0
PRODID:-//Soulardarity - ECPv6.15.20//NONSGML v1.0//EN
CALSCALE:GREGORIAN
METHOD:PUBLISH
X-ORIGINAL-URL:https://soulardarity.org
X-WR-CALDESC:Events for Soulardarity
REFRESH-INTERVAL;VALUE=DURATION:PT1H
X-Robots-Tag:noindex
X-PUBLISHED-TTL:PT1H
BEGIN:VTIMEZONE
TZID:UTC
BEGIN:STANDARD
TZOFFSETFROM:+0000
TZOFFSETTO:+0000
TZNAME:UTC
DTSTART:20230101T000000
END:STANDARD
END:VTIMEZONE
BEGIN:VEVENT
DTSTART;TZID=UTC:20240223T173000
DTEND;TZID=UTC:20240223T193000
DTSTAMP:20260419T161456
CREATED:20240220T205737Z
LAST-MODIFIED:20240220T205739Z
UID:1628-1708709400-1708716600@soulardarity.org
SUMMARY:SOULARDARITY 2024 Q1 Meeting RSVP
DESCRIPTION:Please RSVP for our 2024 Q1 meeting on February 23\, 2024\, from 5:30 -7:30 pm. Your attendance confirmation will help us plan the event effectively. Thank you for taking the time to respond. \n\n\n\n\n\n\n\nl \n\n\n\nI \n\n\n\ni
URL:https://soulardarity.org/event/soulardarity-2024-q1-meeting-rsvp/
LOCATION:General Baker Institute\, 15798 Livernois\, Detroit\, MI 48238\, detroit\, Michigan\, 48238\, United States
CATEGORIES:Soulardarity
ATTACH;FMTTYPE=image/jpeg:https://soulardarity.org/wp-content/uploads/2024/02/IMG_9649.jpg
ORGANIZER;CN="Membership@Soulardarity.com":MAILTO:Membership@Soulardarity.com
END:VEVENT
BEGIN:VEVENT
DTSTART;TZID=UTC:20240229T180000
DTEND;TZID=UTC:20240229T200000
DTSTAMP:20260419T161456
CREATED:20240224T020620Z
LAST-MODIFIED:20240224T020621Z
UID:1652-1709229600-1709236800@soulardarity.org
SUMMARY:Racial Healing in Climate & Environmental Justice Organizing
DESCRIPTION:Soulardarity is hosting our first annual Racial Healing in EJ Event. This National Day of Racial Healing will take place on Zoom\, Thursday\, February 29\, 2024 at 6pm-8pm ET. The event is open to the public and a time to reflect on our shared values and create a collaborative blueprint for #HowWeHeal from the effects of racism specifically within the environmental justice/climate change movement.  \n\n\n\n\n\n\n\n\n\n\n\n\n\nI
URL:https://soulardarity.org/event/racial-healing-in-climate-environmental-justice-organizing/
CATEGORIES:Soulardarity
ATTACH;FMTTYPE=image/jpeg:https://soulardarity.org/wp-content/uploads/2024/02/1-1.jpg
END:VEVENT
END:VCALENDAR