BEGIN:VCALENDAR
VERSION:2.0
PRODID:-//Soulardarity - ECPv6.15.20//NONSGML v1.0//EN
CALSCALE:GREGORIAN
METHOD:PUBLISH
X-WR-CALNAME:Soulardarity
X-ORIGINAL-URL:https://soulardarity.org
X-WR-CALDESC:Events for Soulardarity
REFRESH-INTERVAL;VALUE=DURATION:PT1H
X-Robots-Tag:noindex
X-PUBLISHED-TTL:PT1H
BEGIN:VTIMEZONE
TZID:UTC
BEGIN:STANDARD
TZOFFSETFROM:+0000
TZOFFSETTO:+0000
TZNAME:UTC
DTSTART:20230101T000000
END:STANDARD
END:VTIMEZONE
BEGIN:VEVENT
DTSTART;TZID=UTC:20240303T200000
DTEND;TZID=UTC:20240303T210000
DTSTAMP:20260419T145222
CREATED:20240224T024325Z
LAST-MODIFIED:20240224T025319Z
UID:1665-1709496000-1709499600@soulardarity.org
SUMMARY:Storytime with Soulardarity
DESCRIPTION:Join us for an enchanting evening of “Storytime with Soulardarity”! Delve into a world of wonder and wisdom as local environmental justice activists and organizers captivate audiences with tales of resilience\, hope\, and empowerment. Whether you’re young or young at heart\, these stories are sure to inspire and ignite the imagination. \n\n\n\nDate: Starts in March\, Every Sunday \n\n\n\nTime: 8:00 PM – 9:00 PM \n\n\n\nLocation: Zoom \n\n\n\nAdmission: Free for members; $3 per household for non-members \n\n\n\nAge Range: Recommended for ages 8 and above \n\n\n\nGather your loved ones\, cozy up\, and embark on a journey through storytelling that celebrates community\, justice\, and the power of storytelling. Don’t miss out on this enriching experience where words come to life and hearts are uplifted!
URL:https://soulardarity.org/event/storytime-with-soulardarity/
CATEGORIES:Soulardarity
ATTACH;FMTTYPE=image/webp:https://soulardarity.org/wp-content/uploads/2024/02/climate-change-final-_custom-8addf16137e7ddbce933ed90ff1bccef25be0293-s800-c85.webp
ORGANIZER;CN="Jeana Tall":MAILTO:Jeana@soulardarity.com
END:VEVENT
END:VCALENDAR